BEGIN:VCALENDAR
PRODID:RAVE.CA V17.0
X-WR-CALNAME:Ouverture Festival OFF - Lancement &quot;Résonance&quot;
X-ORIGINAL-URL:https://www.rave.ca/event/7613/
VERSION:2.0
CALSCALE:GREGORIAN
METHOD:PUBLISH
BEGIN:VEVENT
DTSTAMP:20050913T000000Z
LAST-MODIFIED:20050913T000000Z
CREATED:20050913T000000Z
SEQUENCE:7613
ORGANIZER:Unknown
DTSTART:20050707T210000Z
DTEND:20050707T210000Z
UID:event_7613@rave.ca
SUMMARY:Ouverture Festival OFF - Lancement "Résonance"
LOCATION:Rouje
URL:https://www.rave.ca/event/7613/
DESCRIPTION:Présentation de la compilation des producteurs de la scène électronique de Québec.\n\nLINE UP - PERFORMANCES :\nLa Bloukak Live break avec MC SpcFX\, Ultrafesten\, Bleupulp\, ClaudeL
CLASS:PUBLIC
CATEGORIES:
STATUS:CONFIRMED
PARTSTAT:ACCEPTED
END:VEVENT
END:VCALENDAR
