BEGIN:VCALENDAR
PRODID:RAVE.CA V17.0
X-WR-CALNAME:Get Low  , vol 2
X-ORIGINAL-URL:https://www.rave.ca/event/7602/
VERSION:2.0
CALSCALE:GREGORIAN
METHOD:PUBLISH
BEGIN:VEVENT
DTSTAMP:20050926T000000Z
LAST-MODIFIED:20050926T000000Z
CREATED:20050910T000000Z
SEQUENCE:7602
ORGANIZER:Unknown
DTSTART:20050929T090000Z
DTEND:20050929T090000Z
UID:event_7602@rave.ca
SUMMARY:Get Low  \, vol 2
LOCATION:Main Hall
URL:https://www.rave.ca/event/7602/
DESCRIPTION:Devin The Dude (live) www.rapalotrecords.com\nChromeo (live)
CLASS:PUBLIC
CATEGORIES:
STATUS:CONFIRMED
PARTSTAT:ACCEPTED
END:VEVENT
END:VCALENDAR
