BEGIN:VCALENDAR
PRODID:RAVE.CA V17.0
X-WR-CALNAME:LOVE PARADE AFTER PARTY
X-ORIGINAL-URL:https://www.rave.ca/event/7594/
VERSION:2.0
CALSCALE:GREGORIAN
METHOD:PUBLISH
BEGIN:VEVENT
DTSTAMP:20050909T000000Z
LAST-MODIFIED:20050909T000000Z
CREATED:20050909T000000Z
SEQUENCE:7594
ORGANIZER:Unknown
DTSTART:20050924T210000Z
DTEND:20050924T210000Z
UID:event_7594@rave.ca
SUMMARY:LOVE PARADE AFTER PARTY
LOCATION:Bill Graham Civic Auditorium/San Francisco
URL:https://www.rave.ca/event/7594/
DESCRIPTION:BAY AREA get ready for the biggest event of the millennium....The Love is Coming...\n\nSKILLS & SPUNDAE in association with Insomniac's BASSRUSH host\n\n******The Official LOVE PARADE AFTER PARTY!******\n\nSATURDAY\, SEPTEMBER 24th 2005\n9PM-4AM :: Located at the Bill Graham Civic Auditorium in San Francisco :: 9PM-4AM\n\n___________________________________\n\n>>>>>>MAIN STAGE ONE>>>>>>\nCARL COX\nFERRY CORSTEN\nBAD BOY BILL\nDJ DAN\nMARKUS SCHULZ\nDEEP VOICES\n\n\n>>>>>>MAIN STAGE TWO hosted by TranceAddict.com>>>>>>\nBLANK & JONES\nABOVE & BEYOND\nKYAU vs ALBERT\nMIKE KOGLIN\nMARS & DYLOOT\nGIANNI & TAJ\nREZA\n\n>>>>>>MAIN STAGE THREE hosted by Insomniac's BASSRUSH>>>>>>\nSHY FX \nGOLDIE\nPENDULUM\nTECH ITCH\nJOHN B\nBICOLAS\nXXXL & HAZEN\n\nMC's for the night\nJOHNNY RED\nAUDIO ANGEL\nMC DINO \nMC DUH \nCOLONEL MC\n___________________________________\n\nThe Official LOVEPARADE SAN FRANCISCO AFTERPARTY\nis 100% Fully Permitted & Secured from 9PM-4AM at the\nBILL GRAHAM CIVIC AUDITORIUM\n99 Grove Street :: San Francisco\, California
CLASS:PUBLIC
CATEGORIES:
STATUS:CONFIRMED
PARTSTAT:ACCEPTED
END:VEVENT
END:VCALENDAR
