BEGIN:VCALENDAR
PRODID:RAVE.CA V17.0
X-WR-CALNAME:Dj Emmanuelle @ Palm publicity party
X-ORIGINAL-URL:https://www.rave.ca/event/7587/
VERSION:2.0
CALSCALE:GREGORIAN
METHOD:PUBLISH
BEGIN:VEVENT
DTSTAMP:20050909T000000Z
LAST-MODIFIED:20050909T000000Z
CREATED:20050908T000000Z
SEQUENCE:7587
ORGANIZER:Unknown
DTSTART:20050909T200000Z
DTEND:20050909T200000Z
UID:event_7587@rave.ca
SUMMARY:Dj Emmanuelle @ Palm publicity party
LOCATION:Ile Sainte-Hélène
URL:https://www.rave.ca/event/7587/
DESCRIPTION:
CLASS:PUBLIC
CATEGORIES:
STATUS:CONFIRMED
PARTSTAT:ACCEPTED
END:VEVENT
END:VCALENDAR
