BEGIN:VCALENDAR
PRODID:RAVE.CA V17.0
X-WR-CALNAME:pertin_nce/EM
X-ORIGINAL-URL:https://www.rave.ca/event/7578/
VERSION:2.0
CALSCALE:GREGORIAN
METHOD:PUBLISH
BEGIN:VEVENT
DTSTAMP:20050908T000000Z
LAST-MODIFIED:20050908T000000Z
CREATED:20050908T000000Z
SEQUENCE:7578
ORGANIZER:Unknown
DTSTART:20050917T190000Z
DTEND:20050917T190000Z
UID:event_7578@rave.ca
SUMMARY:pertin_nce/EM
LOCATION:café jeunesse l'esperanto @ Lévis
URL:https://www.rave.ca/event/7578/
DESCRIPTION:soirée pertin_nce/EM\navec\n\nbleupulp./ live act\ngeorge./ dj set\nbeta vulgaris./ live act\nsativa state./ live act\n\nvisuels par hallucinetik.
CLASS:PUBLIC
CATEGORIES:
STATUS:CONFIRMED
PARTSTAT:ACCEPTED
END:VEVENT
END:VCALENDAR
