BEGIN:VCALENDAR
PRODID:RAVE.CA V17.0
X-WR-CALNAME:SEX SELLS ::: DJ EMMANUELLE @ LE BOUDOIR
X-ORIGINAL-URL:https://www.rave.ca/event/7567/
VERSION:2.0
CALSCALE:GREGORIAN
METHOD:PUBLISH
BEGIN:VEVENT
DTSTAMP:20050907T000000Z
LAST-MODIFIED:20050907T000000Z
CREATED:20050907T000000Z
SEQUENCE:7567
ORGANIZER:Unknown
DTSTART:20050912T220000Z
DTEND:20050912T220000Z
UID:event_7567@rave.ca
SUMMARY:SEX SELLS ::: DJ EMMANUELLE @ LE BOUDOIR
LOCATION:LE BOUDOIR
URL:https://www.rave.ca/event/7567/
DESCRIPTION:Super sexy mamacita DJ Emmanuelle (Mtl) @ Le Boudoir :::\nDJ set + live performance\n\nELECTRO ELECTRO ELECTRO + ROCK + DISCO + \nsex\, drugs & BOTOX \n\nwww.boudoirlounge.com
CLASS:PUBLIC
CATEGORIES:
STATUS:CONFIRMED
PARTSTAT:ACCEPTED
END:VEVENT
END:VCALENDAR
