BEGIN:VCALENDAR
PRODID:RAVE.CA V17.0
X-WR-CALNAME:DARK &amp; DELICIOUS - lancement
X-ORIGINAL-URL:https://www.rave.ca/event/7561/
VERSION:2.0
CALSCALE:GREGORIAN
METHOD:PUBLISH
BEGIN:VEVENT
DTSTAMP:20050906T000000Z
LAST-MODIFIED:20050906T000000Z
CREATED:20050906T000000Z
SEQUENCE:7561
ORGANIZER:Unknown
DTSTART:20050924T220000Z
DTEND:20050924T220000Z
UID:event_7561@rave.ca
SUMMARY:DARK & DELICIOUS - lancement
LOCATION:Parking\, Club
URL:https://www.rave.ca/event/7561/
DESCRIPTION:Lancement de la toute nouvelle soirée "Dark & Delicious" avec le DJ-résident Angel Moraes (http://www.globalsoundworks.com)\, co-fondateur du (((Stéréo))) Afterhours.\n\nCette soirée sera présentée tous les derniers samedis du mois.
CLASS:PUBLIC
CATEGORIES:
STATUS:CONFIRMED
PARTSTAT:ACCEPTED
END:VEVENT
END:VCALENDAR
