BEGIN:VCALENDAR
PRODID:RAVE.CA V17.0
X-WR-CALNAME:TRAFFIC
X-ORIGINAL-URL:https://www.rave.ca/event/7553/
VERSION:2.0
CALSCALE:GREGORIAN
METHOD:PUBLISH
BEGIN:VEVENT
DTSTAMP:20050906T000000Z
LAST-MODIFIED:20050906T000000Z
CREATED:20050906T000000Z
SEQUENCE:7553
ORGANIZER:Unknown
DTSTART:20050923T220000Z
DTEND:20050923T220000Z
UID:event_7553@rave.ca
SUMMARY:TRAFFIC
LOCATION:Parking\, Club
URL:https://www.rave.ca/event/7553/
DESCRIPTION:Avec le DJ résident Serge Duchesne (http://www.sergeduchesne.com) et DJs invités internationaux chaque mois\, la soirée "Traffic" est frequentée par une jeune clientèle gaie qui aime la musique house-progressive
CLASS:PUBLIC
CATEGORIES:
STATUS:CONFIRMED
PARTSTAT:ACCEPTED
END:VEVENT
END:VCALENDAR
