BEGIN:VCALENDAR
PRODID:RAVE.CA V17.0
X-WR-CALNAME:OVERDOSE (les jeudis électro)
X-ORIGINAL-URL:https://www.rave.ca/event/7548/
VERSION:2.0
CALSCALE:GREGORIAN
METHOD:PUBLISH
BEGIN:VEVENT
DTSTAMP:20050906T000000Z
LAST-MODIFIED:20050906T000000Z
CREATED:20050906T000000Z
SEQUENCE:7548
ORGANIZER:Unknown
DTSTART:20050922T220000Z
DTEND:20050922T220000Z
UID:event_7548@rave.ca
SUMMARY:OVERDOSE (les jeudis électro)
LOCATION:Parking\, Club
URL:https://www.rave.ca/event/7548/
DESCRIPTION:Overdose est la meilleure soirée à Montréal (ICI Montréal 2004). Les plus grands artistes de la scène électro Montréalaise et mondiale y performent chaque semaine\, pour le plaisir d'une clientèle jeune et branchée.
CLASS:PUBLIC
CATEGORIES:
STATUS:CONFIRMED
PARTSTAT:ACCEPTED
END:VEVENT
END:VCALENDAR
