BEGIN:VCALENDAR
PRODID:RAVE.CA V17.0
X-WR-CALNAME:Stratovarius
X-ORIGINAL-URL:https://www.rave.ca/event/7541/
VERSION:2.0
CALSCALE:GREGORIAN
METHOD:PUBLISH
BEGIN:VEVENT
DTSTAMP:20050906T000000Z
LAST-MODIFIED:20050906T000000Z
CREATED:20050906T000000Z
SEQUENCE:7541
ORGANIZER:Unknown
DTSTART:20050924T193000Z
DTEND:20050924T193000Z
UID:event_7541@rave.ca
SUMMARY:Stratovarius
LOCATION:Capitol de Québec
URL:https://www.rave.ca/event/7541/
DESCRIPTION:Mega show de power metal
CLASS:PUBLIC
CATEGORIES:
STATUS:CONFIRMED
PARTSTAT:ACCEPTED
END:VEVENT
END:VCALENDAR
