BEGIN:VCALENDAR
PRODID:RAVE.CA V17.0
X-WR-CALNAME:After Eight Dayclub
X-ORIGINAL-URL:https://www.rave.ca/event/7537/
VERSION:2.0
CALSCALE:GREGORIAN
METHOD:PUBLISH
BEGIN:VEVENT
DTSTAMP:20050906T000000Z
LAST-MODIFIED:20050906T000000Z
CREATED:20050906T000000Z
SEQUENCE:7537
ORGANIZER:Pierre Guido Productions
DTSTART:20050924T090000Z
DTEND:20050924T090000Z
UID:event_7537@rave.ca
SUMMARY:After Eight Dayclub
LOCATION:Stereo Bar
URL:https://www.rave.ca/event/7537/
DESCRIPTION:L'After Eight Dayclub @ Stereobar\, l'endroit idéal pour se retrouver afin de poursuivre une excellente nuit. L'After-after numéro un au Québec ! 856\, rue Sainte-Catherine Est et c'est gratuit !
CLASS:PUBLIC
CATEGORIES:
STATUS:CONFIRMED
PARTSTAT:ACCEPTED
END:VEVENT
END:VCALENDAR
