BEGIN:VCALENDAR
PRODID:RAVE.CA V17.0
X-WR-CALNAME:After Eight Dayclub
X-ORIGINAL-URL:https://www.rave.ca/event/7533/
VERSION:2.0
CALSCALE:GREGORIAN
METHOD:PUBLISH
BEGIN:VEVENT
DTSTAMP:20050907T000000Z
LAST-MODIFIED:20050907T000000Z
CREATED:20050906T000000Z
SEQUENCE:7533
ORGANIZER:Pierre Guido Productions
DTSTART:20050910T090000Z
DTEND:20050910T090000Z
UID:event_7533@rave.ca
SUMMARY:After Eight Dayclub
LOCATION:Stereo Bar
URL:https://www.rave.ca/event/7533/
DESCRIPTION:L'endroit idéal pour se retrouver afin de poursuivre une excellente nuit. L'After-after numéro un au Québec! C'est gratuit!
CLASS:PUBLIC
CATEGORIES:
STATUS:CONFIRMED
PARTSTAT:ACCEPTED
END:VEVENT
END:VCALENDAR
