BEGIN:VCALENDAR
PRODID:RAVE.CA V17.0
X-WR-CALNAME:Lofofora, Mass Hysteria, Arseniq 33
X-ORIGINAL-URL:https://www.rave.ca/event/7525/
VERSION:2.0
CALSCALE:GREGORIAN
METHOD:PUBLISH
BEGIN:VEVENT
DTSTAMP:20050906T000000Z
LAST-MODIFIED:20050906T000000Z
CREATED:20050904T000000Z
SEQUENCE:7525
ORGANIZER:Unknown
DTSTART:20050906T190000Z
DTEND:20050906T190000Z
UID:event_7525@rave.ca
SUMMARY:Lofofora\, Mass Hysteria\, Arseniq 33
LOCATION:Club Soda
URL:https://www.rave.ca/event/7525/
DESCRIPTION:http://www.clubsoda.ca\nhttp://www.mass-hysteria.com
CLASS:PUBLIC
CATEGORIES:
STATUS:CONFIRMED
PARTSTAT:ACCEPTED
END:VEVENT
END:VCALENDAR
