BEGIN:VCALENDAR
PRODID:RAVE.CA V17.0
X-WR-CALNAME:Fred Fisher
X-ORIGINAL-URL:https://www.rave.ca/event/7500/
VERSION:2.0
CALSCALE:GREGORIAN
METHOD:PUBLISH
BEGIN:VEVENT
DTSTAMP:20050831T000000Z
LAST-MODIFIED:20050831T000000Z
CREATED:20050831T000000Z
SEQUENCE:7500
ORGANIZER:Unknown
DTSTART:20050910T000000Z
DTEND:20050910T000000Z
UID:event_7500@rave.ca
SUMMARY:Fred Fisher
LOCATION:Gruv
URL:https://www.rave.ca/event/7500/
DESCRIPTION:
CLASS:PUBLIC
CATEGORIES:
STATUS:CONFIRMED
PARTSTAT:ACCEPTED
END:VEVENT
END:VCALENDAR
