BEGIN:VCALENDAR
PRODID:RAVE.CA V17.0
X-WR-CALNAME:Jester, Luc Raymond, Phil Larochelle, Kurtis C, Short Cut, Devious
X-ORIGINAL-URL:https://www.rave.ca/event/7475/
VERSION:2.0
CALSCALE:GREGORIAN
METHOD:PUBLISH
BEGIN:VEVENT
DTSTAMP:20050831T000000Z
LAST-MODIFIED:20050831T000000Z
CREATED:20050831T000000Z
SEQUENCE:7475
ORGANIZER:Unknown
DTSTART:20050924T000000Z
DTEND:20050924T000000Z
UID:event_7475@rave.ca
SUMMARY:Jester\, Luc Raymond\, Phil Larochelle\, Kurtis C\, Short Cut\, Devious
LOCATION:Redlite
URL:https://www.rave.ca/event/7475/
DESCRIPTION:
CLASS:PUBLIC
CATEGORIES:
STATUS:CONFIRMED
PARTSTAT:ACCEPTED
END:VEVENT
END:VCALENDAR
