BEGIN:VCALENDAR
PRODID:RAVE.CA V17.0
X-WR-CALNAME:Jester, Dove, Franco Fabi, Kurtis C, Short Cut, Devious
X-ORIGINAL-URL:https://www.rave.ca/event/7474/
VERSION:2.0
CALSCALE:GREGORIAN
METHOD:PUBLISH
BEGIN:VEVENT
DTSTAMP:20050831T000000Z
LAST-MODIFIED:20050831T000000Z
CREATED:20050831T000000Z
SEQUENCE:7474
ORGANIZER:Unknown
DTSTART:20050917T000000Z
DTEND:20050917T000000Z
UID:event_7474@rave.ca
SUMMARY:Jester\, Dove\, Franco Fabi\, Kurtis C\, Short Cut\, Devious
LOCATION:Redlite
URL:https://www.rave.ca/event/7474/
DESCRIPTION:
CLASS:PUBLIC
CATEGORIES:
STATUS:CONFIRMED
PARTSTAT:ACCEPTED
END:VEVENT
END:VCALENDAR
