BEGIN:VCALENDAR
PRODID:RAVE.CA V17.0
X-WR-CALNAME:Planet Smashers
X-ORIGINAL-URL:https://www.rave.ca/event/7418/
VERSION:2.0
CALSCALE:GREGORIAN
METHOD:PUBLISH
BEGIN:VEVENT
DTSTAMP:20050829T000000Z
LAST-MODIFIED:20050829T000000Z
CREATED:20050829T000000Z
SEQUENCE:7418
ORGANIZER:Unknown
DTSTART:20050917T190000Z
DTEND:20050917T190000Z
UID:event_7418@rave.ca
SUMMARY:Planet Smashers
LOCATION:Club Soda
URL:https://www.rave.ca/event/7418/
DESCRIPTION:Avec Mustard Plug\, Toasters\, The Know How\, Flatliners\n\nPortes 18h
CLASS:PUBLIC
CATEGORIES:
STATUS:CONFIRMED
PARTSTAT:ACCEPTED
END:VEVENT
END:VCALENDAR
