BEGIN:VCALENDAR
PRODID:RAVE.CA V17.0
X-WR-CALNAME:4 Anniversaire
X-ORIGINAL-URL:https://www.rave.ca/event/7413/
VERSION:2.0
CALSCALE:GREGORIAN
METHOD:PUBLISH
BEGIN:VEVENT
DTSTAMP:20050829T000000Z
LAST-MODIFIED:20050829T000000Z
CREATED:20050828T000000Z
SEQUENCE:7413
ORGANIZER:Unknown
DTSTART:20050909T000000Z
DTEND:20050909T000000Z
UID:event_7413@rave.ca
SUMMARY:4 Anniversaire
LOCATION:Systeme
URL:https://www.rave.ca/event/7413/
DESCRIPTION:4e anniversaire @ systeme club afterhours 9 & 10 septembre dès 2:00am \n\nC'est avec un immense plaisir  que le systeme club afterhours soufflera 4 chandelles  hé oui 4 ans sa fais un bail  ! \n\nLe systeme innove avec une nouvelle sonorisation (20 000 watts) *Haut de Gamme* optimisée par la technologie THX *tcb subwoofers* pour une expérience de bass loud en exclusivité @ systeme club afterhours. !!! \n\nPlancher de bois franc + hi-fi sound = son freutré de qualité  \n\n\nLes dj's : \n\nVendredi 9 septembre \n\n:::ST-MICHEL 2:00 > 3:30 \n:::COTTON 3:30 > 4:30 \n:::MINI 4:30 > 7:00 \n:::DRIXX 7:00 > 9:00 \n:::NIC B 9:00 > 11:00 \n\nSamedi 10 septembre \n\n:::SAILLANT 2:00 > 3:30 \n:::FLAVOUR 3:30 > 5:00 \n:::SIMON P VS COUCH PATATOES 5:00 > 7:00 (live on the moog) \n:::PEAKAFELLER 7:00 > 8:30 \n:::C SIDE 8:30 > 10:30 \n:::DARRYL KÃSS 10:30 > 12:00 \n\nUn CD *4e anniversaire* mixé par Drixx & Peakafeller gratuit au 150 premières personnes vendredi & samedi dès 2 h 00.
CLASS:PUBLIC
CATEGORIES:
STATUS:CONFIRMED
PARTSTAT:ACCEPTED
END:VEVENT
END:VCALENDAR
