BEGIN:VCALENDAR
PRODID:RAVE.CA V17.0
X-WR-CALNAME:Shalom Dance @ Orion
X-ORIGINAL-URL:https://www.rave.ca/event/7397/
VERSION:2.0
CALSCALE:GREGORIAN
METHOD:PUBLISH
BEGIN:VEVENT
DTSTAMP:20050825T000000Z
LAST-MODIFIED:20050825T000000Z
CREATED:20050825T000000Z
SEQUENCE:7397
ORGANIZER:Shalom
DTSTART:20021121T000000Z
DTEND:20021121T000000Z
UID:event_7397@rave.ca
SUMMARY:Shalom Dance @ Orion
LOCATION:Club Orion\, 1432 stanley
URL:https://www.rave.ca/event/7397/
DESCRIPTION:204-0420
CLASS:PUBLIC
CATEGORIES:
STATUS:CONFIRMED
PARTSTAT:ACCEPTED
END:VEVENT
END:VCALENDAR
