BEGIN:VCALENDAR
PRODID:RAVE.CA V17.0
X-WR-CALNAME:Acid Mothers Temple &amp; The CANCELLED Inferno
X-ORIGINAL-URL:https://www.rave.ca/event/7379/
VERSION:2.0
CALSCALE:GREGORIAN
METHOD:PUBLISH
BEGIN:VEVENT
DTSTAMP:20050915T000000Z
LAST-MODIFIED:20050915T000000Z
CREATED:20050824T000000Z
SEQUENCE:7379
ORGANIZER:Unknown
DTSTART:20050915T210000Z
DTEND:20050915T210000Z
UID:event_7379@rave.ca
SUMMARY:Acid Mothers Temple & The CANCELLED Inferno
LOCATION:Sala Rossa\, La
URL:https://www.rave.ca/event/7379/
DESCRIPTION:CANCELLED
CLASS:PUBLIC
CATEGORIES:
STATUS:CONFIRMED
PARTSTAT:ACCEPTED
END:VEVENT
END:VCALENDAR
