BEGIN:VCALENDAR
PRODID:RAVE.CA V17.0
X-WR-CALNAME:Harvest
X-ORIGINAL-URL:https://www.rave.ca/event/7371/
VERSION:2.0
CALSCALE:GREGORIAN
METHOD:PUBLISH
BEGIN:VEVENT
DTSTAMP:20050823T000000Z
LAST-MODIFIED:20050823T000000Z
CREATED:20050823T000000Z
SEQUENCE:7371
ORGANIZER:Unknown
DTSTART:20050918T000000Z
DTEND:20050918T000000Z
UID:event_7371@rave.ca
SUMMARY:Harvest
LOCATION:hastings ontario
URL:https://www.rave.ca/event/7371/
DESCRIPTION:good  mus  good  food   good vibe..
CLASS:PUBLIC
CATEGORIES:
STATUS:CONFIRMED
PARTSTAT:ACCEPTED
END:VEVENT
END:VCALENDAR
