BEGIN:VCALENDAR
PRODID:RAVE.CA V17.0
X-WR-CALNAME:When a California band meet a Montreal band....
X-ORIGINAL-URL:https://www.rave.ca/event/7331/
VERSION:2.0
CALSCALE:GREGORIAN
METHOD:PUBLISH
BEGIN:VEVENT
DTSTAMP:20050816T000000Z
LAST-MODIFIED:20050816T000000Z
CREATED:20050816T000000Z
SEQUENCE:7331
ORGANIZER:Unknown
DTSTART:20050906T093000Z
DTEND:20050906T093000Z
UID:event_7331@rave.ca
SUMMARY:When a California band meet a Montreal band....
LOCATION:Swimming\, Le
URL:https://www.rave.ca/event/7331/
DESCRIPTION:The Moggs meet Jiangxi Brûle
CLASS:PUBLIC
CATEGORIES:
STATUS:CONFIRMED
PARTSTAT:ACCEPTED
END:VEVENT
END:VCALENDAR
