BEGIN:VCALENDAR
PRODID:RAVE.CA V17.0
X-WR-CALNAME:I Love Neon: Vive La Fête, Tiga
X-ORIGINAL-URL:https://www.rave.ca/event/7321/
VERSION:2.0
CALSCALE:GREGORIAN
METHOD:PUBLISH
BEGIN:VEVENT
DTSTAMP:20050828T000000Z
LAST-MODIFIED:20050828T000000Z
CREATED:20050812T000000Z
SEQUENCE:7321
ORGANIZER:I Love Neon
DTSTART:20050904T210000Z
DTEND:20050904T210000Z
UID:event_7321@rave.ca
SUMMARY:I Love Neon: Vive La Fête\, Tiga
LOCATION:Dome
URL:https://www.rave.ca/event/7321/
DESCRIPTION:
CLASS:PUBLIC
CATEGORIES:
STATUS:CONFIRMED
PARTSTAT:ACCEPTED
END:VEVENT
END:VCALENDAR
