BEGIN:VCALENDAR
PRODID:RAVE.CA V17.0
X-WR-CALNAME:Yellow Card @ Stade Uniprix
X-ORIGINAL-URL:https://www.rave.ca/event/7240/
VERSION:2.0
CALSCALE:GREGORIAN
METHOD:PUBLISH
BEGIN:VEVENT
DTSTAMP:20050731T000000Z
LAST-MODIFIED:20050731T000000Z
CREATED:20050731T000000Z
SEQUENCE:7240
ORGANIZER:Unknown
DTSTART:20050908T000000Z
DTEND:20050908T000000Z
UID:event_7240@rave.ca
SUMMARY:Yellow Card @ Stade Uniprix
LOCATION:Unknown
URL:https://www.rave.ca/event/7240/
DESCRIPTION:en 1ere partie de SUM 41
CLASS:PUBLIC
CATEGORIES:
STATUS:CONFIRMED
PARTSTAT:ACCEPTED
END:VEVENT
END:VCALENDAR
