BEGIN:VCALENDAR
PRODID:RAVE.CA V17.0
X-WR-CALNAME:Yzabella
X-ORIGINAL-URL:https://www.rave.ca/event/7203/
VERSION:2.0
CALSCALE:GREGORIAN
METHOD:PUBLISH
BEGIN:VEVENT
DTSTAMP:20050929T000000Z
LAST-MODIFIED:20050929T000000Z
CREATED:20050726T000000Z
SEQUENCE:7203
ORGANIZER:Unknown
DTSTART:20051029T000000Z
DTEND:20051029T000000Z
UID:event_7203@rave.ca
SUMMARY:Yzabella
LOCATION:Gravity
URL:https://www.rave.ca/event/7203/
DESCRIPTION:2 room party\nroom 1: live act\nroom 2: tag team\n\ndream records vous propose de faire un voyage interplanetaire a board du zx13\, le plus beau trance-porteur de la galaxie.\n\nvenez faire un voyage inoubliable a destination de l etoile Yzabella avec les commandants Yoda et VoieLaktee. Deux Ambiance qui vous feront raver seront mises a votre disposition et vous teleporteront dans le monde de la musique psychedelique\nLe decolage debutera a Minuit et le retour sur terre s effectura a 10h\n\napprouve par l agence de voyage Dream Records Galactik\n\nTous les habitants de toutes les galaxies sont admis dans le zx13
CLASS:PUBLIC
CATEGORIES:
STATUS:CONFIRMED
PARTSTAT:ACCEPTED
END:VEVENT
END:VCALENDAR
