BEGIN:VCALENDAR
PRODID:RAVE.CA V17.0
X-WR-CALNAME:Roni Size, Stabba, Sase One
X-ORIGINAL-URL:https://www.rave.ca/event/7137/
VERSION:2.0
CALSCALE:GREGORIAN
METHOD:PUBLISH
BEGIN:VEVENT
DTSTAMP:20050731T000000Z
LAST-MODIFIED:20050731T000000Z
CREATED:20050722T000000Z
SEQUENCE:7137
ORGANIZER:Unknown
DTSTART:20050916T013000Z
DTEND:20050916T013000Z
UID:event_7137@rave.ca
SUMMARY:Roni Size\, Stabba\, Sase One
LOCATION:Aria\, Afterhours
URL:https://www.rave.ca/event/7137/
DESCRIPTION:www.aria-nightclub.com\n\n514-839-ARIA  //  514-839-2742
CLASS:PUBLIC
CATEGORIES:
STATUS:CONFIRMED
PARTSTAT:ACCEPTED
END:VEVENT
END:VCALENDAR
