BEGIN:VCALENDAR
PRODID:RAVE.CA V17.0
X-WR-CALNAME:Alex axx Koss @ Exode St-Georges
X-ORIGINAL-URL:https://www.rave.ca/event/7133/
VERSION:2.0
CALSCALE:GREGORIAN
METHOD:PUBLISH
BEGIN:VEVENT
DTSTAMP:20050721T000000Z
LAST-MODIFIED:20050721T000000Z
CREATED:20050721T000000Z
SEQUENCE:7133
ORGANIZER:Unknown
DTSTART:20050709T000000Z
DTEND:20050709T000000Z
UID:event_7133@rave.ca
SUMMARY:Alex axx Koss @ Exode St-Georges
LOCATION:l'Exode
URL:https://www.rave.ca/event/7133/
DESCRIPTION:Yo la gang \, je serais parmis vs à St-Georges le samedi le 9 juillet de 4h30 à 8h30 et ce pour une premiere fois \, j'ai vraiment hâte \,Préparer vs à un set des plus électronique \, house \, électro et prog trance \, j'ai une tonne de nouveautés que jamais personne à jouer encore au qc \, alors je vs attends en grand nombre ce samedi à l'Exode ...
CLASS:PUBLIC
CATEGORIES:
STATUS:CONFIRMED
PARTSTAT:ACCEPTED
END:VEVENT
END:VCALENDAR
