BEGIN:VCALENDAR
PRODID:RAVE.CA V17.0
X-WR-CALNAME:Freakommission presents Halloweed
X-ORIGINAL-URL:https://www.rave.ca/event/7126/
VERSION:2.0
CALSCALE:GREGORIAN
METHOD:PUBLISH
BEGIN:VEVENT
DTSTAMP:20051020T000000Z
LAST-MODIFIED:20051020T000000Z
CREATED:20050720T000000Z
SEQUENCE:7126
ORGANIZER:Unknown
DTSTART:20051029T220000Z
DTEND:20051029T220000Z
UID:event_7126@rave.ca
SUMMARY:Freakommission presents Halloweed
LOCATION:Unknown
URL:https://www.rave.ca/event/7126/
DESCRIPTION:Freakommission presents\nan old school haloweed jam!\n\nmore info coming soon
CLASS:PUBLIC
CATEGORIES:
STATUS:CONFIRMED
PARTSTAT:ACCEPTED
END:VEVENT
END:VCALENDAR
