BEGIN:VCALENDAR
PRODID:RAVE.CA V17.0
X-WR-CALNAME:Jake Fairley
X-ORIGINAL-URL:https://www.rave.ca/event/7094/
VERSION:2.0
CALSCALE:GREGORIAN
METHOD:PUBLISH
BEGIN:VEVENT
DTSTAMP:20050723T000000Z
LAST-MODIFIED:20050723T000000Z
CREATED:20050711T000000Z
SEQUENCE:7094
ORGANIZER:Unknown
DTSTART:20050707T000000Z
DTEND:20050707T000000Z
UID:event_7094@rave.ca
SUMMARY:Jake Fairley
LOCATION:Parking\, Club
URL:https://www.rave.ca/event/7094/
DESCRIPTION:
CLASS:PUBLIC
CATEGORIES:
STATUS:CONFIRMED
PARTSTAT:ACCEPTED
END:VEVENT
END:VCALENDAR
