BEGIN:VCALENDAR
PRODID:RAVE.CA V17.0
X-WR-CALNAME:Festival 2012
X-ORIGINAL-URL:https://www.rave.ca/event/7085/
VERSION:2.0
CALSCALE:GREGORIAN
METHOD:PUBLISH
BEGIN:VEVENT
DTSTAMP:20050708T000000Z
LAST-MODIFIED:20050708T000000Z
CREATED:20050708T000000Z
SEQUENCE:7085
ORGANIZER:Unknown
DTSTART:20050709T120000Z
DTEND:20050709T120000Z
UID:event_7085@rave.ca
SUMMARY:Festival 2012
LOCATION:st. sylvestre mont radar..
URL:https://www.rave.ca/event/7085/
DESCRIPTION:Art\, Musique et Conscience\nCamping water. good vibe.
CLASS:PUBLIC
CATEGORIES:
STATUS:CONFIRMED
PARTSTAT:ACCEPTED
END:VEVENT
END:VCALENDAR
