BEGIN:VCALENDAR
PRODID:RAVE.CA V17.0
X-WR-CALNAME:Valapalooza
X-ORIGINAL-URL:https://www.rave.ca/event/7084/
VERSION:2.0
CALSCALE:GREGORIAN
METHOD:PUBLISH
BEGIN:VEVENT
DTSTAMP:20050715T000000Z
LAST-MODIFIED:20050715T000000Z
CREATED:20050707T000000Z
SEQUENCE:7084
ORGANIZER:Unknown
DTSTART:20050709T200000Z
DTEND:20050709T200000Z
UID:event_7084@rave.ca
SUMMARY:Valapalooza
LOCATION:Alexandria Ontario
URL:https://www.rave.ca/event/7084/
DESCRIPTION:every year held in Alexandria Ontario\, people flock to this massive open area field/barn with live music\, dj's\, bonfires\, camping and a fuckload of drinking!
CLASS:PUBLIC
CATEGORIES:
STATUS:CONFIRMED
PARTSTAT:ACCEPTED
END:VEVENT
END:VCALENDAR
