BEGIN:VCALENDAR
PRODID:RAVE.CA V17.0
X-WR-CALNAME:Massive Thursdays
X-ORIGINAL-URL:https://www.rave.ca/event/7081/
VERSION:2.0
CALSCALE:GREGORIAN
METHOD:PUBLISH
BEGIN:VEVENT
DTSTAMP:20050707T000000Z
LAST-MODIFIED:20050707T000000Z
CREATED:20050707T000000Z
SEQUENCE:7081
ORGANIZER:Unknown
DTSTART:20050707T000000Z
DTEND:20050707T000000Z
UID:event_7081@rave.ca
SUMMARY:Massive Thursdays
LOCATION:Reggie's in Concordia
URL:https://www.rave.ca/event/7081/
DESCRIPTION:DnB/Hiphop/reggae/ragga/jungle/whatevah!
CLASS:PUBLIC
CATEGORIES:
STATUS:CONFIRMED
PARTSTAT:ACCEPTED
END:VEVENT
END:VCALENDAR
