BEGIN:VCALENDAR
PRODID:RAVE.CA V17.0
X-WR-CALNAME:Symbiose: Philgood, Fuze, Aquilas
X-ORIGINAL-URL:https://www.rave.ca/event/7073/
VERSION:2.0
CALSCALE:GREGORIAN
METHOD:PUBLISH
BEGIN:VEVENT
DTSTAMP:20050708T000000Z
LAST-MODIFIED:20050708T000000Z
CREATED:20050706T000000Z
SEQUENCE:7073
ORGANIZER:Unknown
DTSTART:20050708T220000Z
DTEND:20050708T220000Z
UID:event_7073@rave.ca
SUMMARY:Symbiose: Philgood\, Fuze\, Aquilas
LOCATION:5390 ST-LAURENT
URL:https://www.rave.ca/event/7073/
DESCRIPTION:SEMI-PRIVATE PARTY\n22H-3H\nBAR \n\nDJ Fuze\nDJ Aquilas\nDJ PHILGOOD\n\nLive Artsitic Happening - videos and surprises....
CLASS:PUBLIC
CATEGORIES:
STATUS:CONFIRMED
PARTSTAT:ACCEPTED
END:VEVENT
END:VCALENDAR
