BEGIN:VCALENDAR
PRODID:RAVE.CA V17.0
X-WR-CALNAME:After Eight
X-ORIGINAL-URL:https://www.rave.ca/event/7065/
VERSION:2.0
CALSCALE:GREGORIAN
METHOD:PUBLISH
BEGIN:VEVENT
DTSTAMP:20050723T000000Z
LAST-MODIFIED:20050723T000000Z
CREATED:20050705T000000Z
SEQUENCE:7065
ORGANIZER:Unknown
DTSTART:20050709T093000Z
DTEND:20050709T093000Z
UID:event_7065@rave.ca
SUMMARY:After Eight
LOCATION:Stereo Bar
URL:https://www.rave.ca/event/7065/
DESCRIPTION:After after
CLASS:PUBLIC
CATEGORIES:
STATUS:CONFIRMED
PARTSTAT:ACCEPTED
END:VEVENT
END:VCALENDAR
