BEGIN:VCALENDAR
PRODID:RAVE.CA V17.0
X-WR-CALNAME:EZBake: Bliss, Db Vaig, Dialect, Dysklo, Kiffa
X-ORIGINAL-URL:https://www.rave.ca/event/7061/
VERSION:2.0
CALSCALE:GREGORIAN
METHOD:PUBLISH
BEGIN:VEVENT
DTSTAMP:20050715T000000Z
LAST-MODIFIED:20050715T000000Z
CREATED:20050705T000000Z
SEQUENCE:7061
ORGANIZER:Unknown
DTSTART:20050704T100000Z
DTEND:20050704T100000Z
UID:event_7061@rave.ca
SUMMARY:EZBake: Bliss\, Db Vaig\, Dialect\, Dysklo\, Kiffa
LOCATION:Blue Dog
URL:https://www.rave.ca/event/7061/
DESCRIPTION:this week with DJ BLISS
CLASS:PUBLIC
CATEGORIES:
STATUS:CONFIRMED
PARTSTAT:ACCEPTED
END:VEVENT
END:VCALENDAR
