BEGIN:VCALENDAR
PRODID:RAVE.CA V17.0
X-WR-CALNAME:FanTasia Opening Night Party
X-ORIGINAL-URL:https://www.rave.ca/event/7058/
VERSION:2.0
CALSCALE:GREGORIAN
METHOD:PUBLISH
BEGIN:VEVENT
DTSTAMP:20050705T000000Z
LAST-MODIFIED:20050705T000000Z
CREATED:20050705T000000Z
SEQUENCE:7058
ORGANIZER:Unknown
DTSTART:20050707T090000Z
DTEND:20050707T090000Z
UID:event_7058@rave.ca
SUMMARY:FanTasia Opening Night Party
LOCATION:Societe des arts Technologiques
URL:https://www.rave.ca/event/7058/
DESCRIPTION:At the Société des Arts Technologiques (S.A.T.) 1195 St-Laurent between Ste-Catherine and René-Lévesques.\n\nFrom 9pm to 3am.\n\nPerformances by DJ Frigid\, Poxy\, Gentle Bakemono\, and much more.\n\nGlam-rock\, electro-disco and wild visuals.\n\nThis Thursday\, come celebrate another edition of the great FanTasia film festival.
CLASS:PUBLIC
CATEGORIES:
STATUS:CONFIRMED
PARTSTAT:ACCEPTED
END:VEVENT
END:VCALENDAR
