BEGIN:VCALENDAR
PRODID:RAVE.CA V17.0
X-WR-CALNAME:In Progress: Camo, Tao aka Tao-Nhan, Wizz
X-ORIGINAL-URL:https://www.rave.ca/event/7028/
VERSION:2.0
CALSCALE:GREGORIAN
METHOD:PUBLISH
BEGIN:VEVENT
DTSTAMP:20050820T000000Z
LAST-MODIFIED:20050820T000000Z
CREATED:20050629T000000Z
SEQUENCE:7028
ORGANIZER:Unknown
DTSTART:20050708T220000Z
DTEND:20050708T220000Z
UID:event_7028@rave.ca
SUMMARY:In Progress: Camo\, Tao aka Tao-Nhan\, Wizz
LOCATION:Velvet
URL:https://www.rave.ca/event/7028/
DESCRIPTION:After two big nights at the Velvet\, In Progress comes back for the 3rd time on july 8th with another blend of progressive electronica with residents djs Tao and Camo and dj Wizz as guest  who will play a progressive set for the occasion.
CLASS:PUBLIC
CATEGORIES:
STATUS:CONFIRMED
PARTSTAT:ACCEPTED
END:VEVENT
END:VCALENDAR
