BEGIN:VCALENDAR
PRODID:RAVE.CA V17.0
X-WR-CALNAME:Poutstock 2005
X-ORIGINAL-URL:https://www.rave.ca/event/7018/
VERSION:2.0
CALSCALE:GREGORIAN
METHOD:PUBLISH
BEGIN:VEVENT
DTSTAMP:20050626T000000Z
LAST-MODIFIED:20050626T000000Z
CREATED:20050626T000000Z
SEQUENCE:7018
ORGANIZER:Unknown
DTSTART:20050709T210000Z
DTEND:20050709T210000Z
UID:event_7018@rave.ca
SUMMARY:Poutstock 2005
LOCATION:Bois de Belle Riviere
URL:https://www.rave.ca/event/7018/
DESCRIPTION:Ça va être une soiree dans la nature parfumé de rythme éléctronique\, sur un site enchanteur. À ne pas manquer :)\n\nA little touch of Electronic Rythm and Nature.\nDon't miss this :)\n\nArtistes invités :\n  \n  Dommi Dokteur (live avec ses instruments)\n \n  DJ Pout\n \n  DJ Frank\n \n  DJ Raygin\n \n  DJ Mega\n \n  Digital Dream
CLASS:PUBLIC
CATEGORIES:
STATUS:CONFIRMED
PARTSTAT:ACCEPTED
END:VEVENT
END:VCALENDAR
