BEGIN:VCALENDAR
PRODID:RAVE.CA V17.0
X-WR-CALNAME:Ghostly International in Montreal
X-ORIGINAL-URL:https://www.rave.ca/event/7017/
VERSION:2.0
CALSCALE:GREGORIAN
METHOD:PUBLISH
BEGIN:VEVENT
DTSTAMP:20050626T000000Z
LAST-MODIFIED:20050626T000000Z
CREATED:20050626T000000Z
SEQUENCE:7017
ORGANIZER:Unknown
DTSTART:20050708T210000Z
DTEND:20050708T210000Z
UID:event_7017@rave.ca
SUMMARY:Ghostly International in Montreal
LOCATION:Brasserie Bellechasse – 195 Bellechasse
URL:https://www.rave.ca/event/7017/
DESCRIPTION:[b]Kill Memory Crash[/b] - (Ghostly International\, Detroit/Chicago)\n[b]Kero[/b] - (Detroit Underground\, Detroit)\n[b]DJ Jordan Dare[/b] - (Turbo Recordings\, Montreal)\n\nLive electronic performances with live video projections and DJ.  Bringing Detroit to Montreal.
CLASS:PUBLIC
CATEGORIES:
STATUS:CONFIRMED
PARTSTAT:ACCEPTED
END:VEVENT
END:VCALENDAR
