BEGIN:VCALENDAR
PRODID:RAVE.CA V17.0
X-WR-CALNAME:Deep Dish, Dean Coleman
X-ORIGINAL-URL:https://www.rave.ca/event/7016/
VERSION:2.0
CALSCALE:GREGORIAN
METHOD:PUBLISH
BEGIN:VEVENT
DTSTAMP:20050626T000000Z
LAST-MODIFIED:20050626T000000Z
CREATED:20050626T000000Z
SEQUENCE:7016
ORGANIZER:Unknown
DTSTART:20050715T013000Z
DTEND:20050715T013000Z
UID:event_7016@rave.ca
SUMMARY:Deep Dish\, Dean Coleman
LOCATION:Aria\, Afterhours
URL:https://www.rave.ca/event/7016/
DESCRIPTION:
CLASS:PUBLIC
CATEGORIES:
STATUS:CONFIRMED
PARTSTAT:ACCEPTED
END:VEVENT
END:VCALENDAR
