BEGIN:VCALENDAR
PRODID:RAVE.CA V17.0
X-WR-CALNAME:Plastic Bertrand Show
X-ORIGINAL-URL:https://www.rave.ca/event/6953/
VERSION:2.0
CALSCALE:GREGORIAN
METHOD:PUBLISH
BEGIN:VEVENT
DTSTAMP:20050803T000000Z
LAST-MODIFIED:20050803T000000Z
CREATED:20050615T000000Z
SEQUENCE:6953
ORGANIZER:Unknown
DTSTART:20050806T110000Z
DTEND:20050806T110000Z
UID:event_6953@rave.ca
SUMMARY:Plastic Bertrand Show
LOCATION:Spectrum
URL:https://www.rave.ca/event/6953/
DESCRIPTION:Show de Plastic Bertrand
CLASS:PUBLIC
CATEGORIES:
STATUS:CONFIRMED
PARTSTAT:ACCEPTED
END:VEVENT
END:VCALENDAR
