BEGIN:VCALENDAR
PRODID:RAVE.CA V17.0
X-WR-CALNAME:Jordan Dare, Pinky 38, Dave O&#039;Brien, Sarcastic &amp; Jasmine
X-ORIGINAL-URL:https://www.rave.ca/event/6936/
VERSION:2.0
CALSCALE:GREGORIAN
METHOD:PUBLISH
BEGIN:VEVENT
DTSTAMP:20050719T000000Z
LAST-MODIFIED:20050719T000000Z
CREATED:20050613T000000Z
SEQUENCE:6936
ORGANIZER:Level 4 Productions
DTSTART:20050707T100000Z
DTEND:20050707T100000Z
UID:event_6936@rave.ca
SUMMARY:Jordan Dare\, Pinky 38\, Dave O'Brien\, Sarcastic & Jasmine
LOCATION:Saphir\, Club
URL:https://www.rave.ca/event/6936/
DESCRIPTION:mix thursdays takes DJs\, crews and artists representing the city's best underground electronic club music\, then pits them against each other in a simulated wartime environment. add copious amounts of alcohol\, sound\, a smoke machine and basic first aid facilities\, toast\, crunch\, and roll in a giant zig zag. \n\nJuly 7th is a special fuck-y'all episode. representing we dont give a fuck\, slasher-death PLUR. with the masters of the genre:\n\nJORDAN DARE. turbo records. \nPINKY 38. frogland breakers. planete break. \nDAVE O'BRIEN. no commercial value.\nSARCASTIC. level 4 productions. hard as fuck XXX (damn that looks cool next to my name)\nJASMINE. women on wax.\n\nelectro.breaks.techno.house.booty.everything in between.
CLASS:PUBLIC
CATEGORIES:
STATUS:CONFIRMED
PARTSTAT:ACCEPTED
END:VEVENT
END:VCALENDAR
