BEGIN:VCALENDAR
PRODID:RAVE.CA V17.0
X-WR-CALNAME:Dark Wave Nights 8 Year Anniversary
X-ORIGINAL-URL:https://www.rave.ca/event/6924/
VERSION:2.0
CALSCALE:GREGORIAN
METHOD:PUBLISH
BEGIN:VEVENT
DTSTAMP:20050708T000000Z
LAST-MODIFIED:20050708T000000Z
CREATED:20050611T000000Z
SEQUENCE:6924
ORGANIZER:Unknown
DTSTART:20050708T220000Z
DTEND:20050708T220000Z
UID:event_6924@rave.ca
SUMMARY:Dark Wave Nights 8 Year Anniversary
LOCATION:Saphir\, Club
URL:https://www.rave.ca/event/6924/
DESCRIPTION:On Club Saphir's 2nd floor....\nDark Wave Nights celebrates it's 8th year! \nFeaturing ebm\, goth\, industrial\, synth-pop\, alternative\, & new wave music by DJ MR BLACK and his special guest DJ URIEL.\n\nA live performance by Montreal's THE SCROLL (electronica) kick off the event at 10pm.\nSpecial prize giveaways by Cruella\, Black Sun Studio\, etc... hosted by PLASTIK PATRICK.\nWith visual projections by ATANORE.\n\nThe first 100 people attending each get one free beer thanks to Boréal.
CLASS:PUBLIC
CATEGORIES:
STATUS:CONFIRMED
PARTSTAT:ACCEPTED
END:VEVENT
END:VCALENDAR
