BEGIN:VCALENDAR
PRODID:RAVE.CA V17.0
X-WR-CALNAME:Tommie Sunshine, Crossover, Jordan Dare
X-ORIGINAL-URL:https://www.rave.ca/event/6920/
VERSION:2.0
CALSCALE:GREGORIAN
METHOD:PUBLISH
BEGIN:VEVENT
DTSTAMP:20050615T000000Z
LAST-MODIFIED:20050615T000000Z
CREATED:20050611T000000Z
SEQUENCE:6920
ORGANIZER:I Love Neon
DTSTART:20050625T220000Z
DTEND:20050625T220000Z
UID:event_6920@rave.ca
SUMMARY:Tommie Sunshine\, Crossover\, Jordan Dare
LOCATION:Societe des arts Technologiques
URL:https://www.rave.ca/event/6920/
DESCRIPTION:Tommie Sunshine (Gigolo\, xylophone jones NYC)\nRock House\, ElectroDiscoPunk & Lo-Fi Dance Pogo is what you can expect from the decks and a full-blown\,\nunpredictable party is what you can expect through the speakers and on the dance floor. \nwww.tommiesunshine.org\n\nCrossover LIVE PA (Gigolo Records NYC)\nHere they come again to put a spell on you with... Cryptic and Dire Sallow Faced Hoods Blast Off into Oblivion CROSSOVER are antagonistic practicaljokers\, spinning a web of myth with their own cult of obscurity. Their rejection of society is direct cultural sabotage. With their fantasy orientated point of view they declare an absurdist art war. From the sublime to the ridiculous - they call for radical liberation. They exist on the outside. Crossover is back in Montreal & NEON for the first time since 2002 with a new album on Gigolo & a new world tour.\nwww.gigolo-records.de\n\nJordan Dare (White Leather Records\, Montreal)\nDare delivers every time\, solid tracks & tight mixes\, when you see him play it becomes so obvious that he is most comfortable when performing\, Having been influenced musically by early electro\, new wave & drum n bass (by the likes of Joy Division\, Gary Numan\, New order\, Kraftwerk\, Jonny L\, Black Strobe\, Depeche Mode & even Acen) Dare has been DJing for over 15 years & making tracks for over 7\, just coming into his own personal sound and style now\, his set’s just keep getting better & better....\nwww.jordandare.com
CLASS:PUBLIC
CATEGORIES:
STATUS:CONFIRMED
PARTSTAT:ACCEPTED
END:VEVENT
END:VCALENDAR
