BEGIN:VCALENDAR
PRODID:RAVE.CA V17.0
X-WR-CALNAME:Cowboys Fringants SHow dla st-Jean
X-ORIGINAL-URL:https://www.rave.ca/event/6895/
VERSION:2.0
CALSCALE:GREGORIAN
METHOD:PUBLISH
BEGIN:VEVENT
DTSTAMP:20050608T000000Z
LAST-MODIFIED:20050608T000000Z
CREATED:20050608T000000Z
SEQUENCE:6895
ORGANIZER:Unknown
DTSTART:20050624T130000Z
DTEND:20050624T130000Z
UID:event_6895@rave.ca
SUMMARY:Cowboys Fringants SHow dla st-Jean
LOCATION:Parc Jean Drapeau
URL:https://www.rave.ca/event/6895/
DESCRIPTION:Show dla st-jean Avec entre autre Loco Locas & Dumas.\n\nOuverture des portes : 11h
CLASS:PUBLIC
CATEGORIES:
STATUS:CONFIRMED
PARTSTAT:ACCEPTED
END:VEVENT
END:VCALENDAR
