BEGIN:VCALENDAR
PRODID:RAVE.CA V17.0
X-WR-CALNAME:Space Machine + Diesel Guitar @ Bears, Osaka
X-ORIGINAL-URL:https://www.rave.ca/event/6885/
VERSION:2.0
CALSCALE:GREGORIAN
METHOD:PUBLISH
BEGIN:VEVENT
DTSTAMP:20050607T000000Z
LAST-MODIFIED:20050607T000000Z
CREATED:20050607T000000Z
SEQUENCE:6885
ORGANIZER:Unknown
DTSTART:20050707T193000Z
DTEND:20050707T193000Z
UID:event_6885@rave.ca
SUMMARY:Space Machine + Diesel Guitar @ Bears\, Osaka
LOCATION:Bears\, Namba\, Osaka (Japan)
URL:https://www.rave.ca/event/6885/
DESCRIPTION:live:\nSpace Machine (Yamazaki Maso + Nakaya Koichi)\nDiesel Guitar\n\nVJ:\nFukumoto Tadashi (Videgram)
CLASS:PUBLIC
CATEGORIES:
STATUS:CONFIRMED
PARTSTAT:ACCEPTED
END:VEVENT
END:VCALENDAR
