BEGIN:VCALENDAR
PRODID:RAVE.CA V17.0
X-WR-CALNAME:Electro-Chic 2
X-ORIGINAL-URL:https://www.rave.ca/event/6808/
VERSION:2.0
CALSCALE:GREGORIAN
METHOD:PUBLISH
BEGIN:VEVENT
DTSTAMP:20050531T000000Z
LAST-MODIFIED:20050531T000000Z
CREATED:20050526T000000Z
SEQUENCE:6808
ORGANIZER:Akarien Productions & Management
DTSTART:20050701T210000Z
DTEND:20050701T210000Z
UID:event_6808@rave.ca
SUMMARY:Electro-Chic 2
LOCATION:Bacci
URL:https://www.rave.ca/event/6808/
DESCRIPTION:Les productions Akarien sont fière de vous présenter la 2ème édition des soirées Electro-Chic!! Soirées thématiques ou il est permis d'être extravagant et d'enfiler sont ''suit'' le plus CHIC!!\n\nVenez danser\, billardiser \;-) et boire une bonne bière  avec nous!\n______________________________________\n\nAkarien productions proudly present the second edition of Electro-Chic!! A thematic event where you are free to put on the most CHIC suit that you have!!\n\nCome danse\, play pool and drink a good beer with us!!
CLASS:PUBLIC
CATEGORIES:
STATUS:CONFIRMED
PARTSTAT:ACCEPTED
END:VEVENT
END:VCALENDAR
