BEGIN:VCALENDAR
PRODID:RAVE.CA V17.0
X-WR-CALNAME:Frankie Fiasco
X-ORIGINAL-URL:https://www.rave.ca/event/6779/
VERSION:2.0
CALSCALE:GREGORIAN
METHOD:PUBLISH
BEGIN:VEVENT
DTSTAMP:20050524T000000Z
LAST-MODIFIED:20050524T000000Z
CREATED:20050524T000000Z
SEQUENCE:6779
ORGANIZER:Unknown
DTSTART:20050616T000000Z
DTEND:20050616T000000Z
UID:event_6779@rave.ca
SUMMARY:Frankie Fiasco
LOCATION:Kafein
URL:https://www.rave.ca/event/6779/
DESCRIPTION:
CLASS:PUBLIC
CATEGORIES:
STATUS:CONFIRMED
PARTSTAT:ACCEPTED
END:VEVENT
END:VCALENDAR
