BEGIN:VCALENDAR
PRODID:RAVE.CA V17.0
X-WR-CALNAME:Fiasco Thursdays
X-ORIGINAL-URL:https://www.rave.ca/event/6775/
VERSION:2.0
CALSCALE:GREGORIAN
METHOD:PUBLISH
BEGIN:VEVENT
DTSTAMP:20050524T000000Z
LAST-MODIFIED:20050524T000000Z
CREATED:20050524T000000Z
SEQUENCE:6775
ORGANIZER:Unknown
DTSTART:20050601T000000Z
DTEND:20050601T000000Z
UID:event_6775@rave.ca
SUMMARY:Fiasco Thursdays
LOCATION:Kafein
URL:https://www.rave.ca/event/6775/
DESCRIPTION:
CLASS:PUBLIC
CATEGORIES:
STATUS:CONFIRMED
PARTSTAT:ACCEPTED
END:VEVENT
END:VCALENDAR
