BEGIN:VCALENDAR
PRODID:RAVE.CA V17.0
X-WR-CALNAME:Ez Bake: Pi 67
X-ORIGINAL-URL:https://www.rave.ca/event/6755/
VERSION:2.0
CALSCALE:GREGORIAN
METHOD:PUBLISH
BEGIN:VEVENT
DTSTAMP:20050606T000000Z
LAST-MODIFIED:20050606T000000Z
CREATED:20050520T000000Z
SEQUENCE:6755
ORGANIZER:Unknown
DTSTART:20050606T220000Z
DTEND:20050606T220000Z
UID:event_6755@rave.ca
SUMMARY:Ez Bake: Pi 67
LOCATION:Blue Dog
URL:https://www.rave.ca/event/6755/
DESCRIPTION:Non Aggressive blend of Jungle\, Breakz\, Dub step ......\nNo Cover\n$9 Pitchers
CLASS:PUBLIC
CATEGORIES:
STATUS:CONFIRMED
PARTSTAT:ACCEPTED
END:VEVENT
END:VCALENDAR
